BEGIN:VCALENDAR
VERSION:2.0
PRODID:Events Booking
BEGIN:VEVENT
UID:69ecc2eb0ca36
SUMMARY:Information session for people recently diagnosed 
DESCRIPTION:Have you\, or someone close to you\, been recently diagnosed wi
 th motor neurone disease (MND)?
 This online interactive information sess
 ion will provide the opportunity for you and your family to have some of y
 our questions answered.
DTSTART:20210407T010000Z
DTEND:20210407T023000Z
DTSTAMP:20260425T133435Z
ORGANIZER;CN=MNDNSW Website - Events:MAILTO:info@mndnsw.org.au
END:VEVENT
END:VCALENDAR