BEGIN:VCALENDAR
VERSION:2.0
PRODID:Events Booking
BEGIN:VEVENT
UID:69ed78b95c1bc
SUMMARY:Illawarra Online Support Group
DESCRIPTION:The Illawarra support group is now online!
 This is an online 
 group meeting for people who would usually attend support group events in 
 the Illawarra with our MND Advisor Ana.
DTSTART:20200715T000000Z
DTEND:20200715T010000Z
DTSTAMP:20260426T023017Z
ORGANIZER;CN=MNDNSW Website - Events:MAILTO:info@mndnsw.org.au
END:VEVENT
END:VCALENDAR