BEGIN:VCALENDAR
VERSION:2.0
PRODID:Events Booking
BEGIN:VEVENT
UID:69ed6044519ad
SUMMARY:SFMCA/ GIAV Charity Golf Day
DESCRIPTION:SFMCA/GIAV will be hosting their Charity Golf Day in aid of MND
  NSW and MND research at the Black Bull Golf Club in Yarrawonga.
LOCATION:1 Silverwoods Blvd\, Yarrawonga VIC 3730
DTSTART:20260623T020000Z
DTSTAMP:20260424T161736Z
ORGANIZER;CN=MNDNSW Website - Events:MAILTO:info@mndnsw.org.au
GEO:-36.002884;146.039662
X-APPLE-STRUCTURED-LOCATION;VALUE=URI;X-ADDRESS=1 Silverwoods Blvd\, Yarraw
 onga VIC 3730;X-APPLE-RADIUS=72;X-TITLE=Black Bull Golf Club:-36.002884;14
 6.039662
END:VEVENT
END:VCALENDAR