BEGIN:VCALENDAR
VERSION:2.0
PRODID:Events Booking
BEGIN:VEVENT
UID:69ed4bcf6fa0b
SUMMARY:Sawtell Chilli Festival MND Stall
DESCRIPTION:Susan will be holding an MND stand at the Sawtell Chilli Festiv
 al on Saturday July 4\, raising awareness about MND and much-needed funds 
 for MND NSW.&nbsp\;
LOCATION:First Avenue\, Sawtell NSW 2452
DTSTART:20260703T230000Z
DTEND:20260704T060000Z
DTSTAMP:20260424T154624Z
ORGANIZER;CN=MNDNSW Website - Events:MAILTO:info@mndnsw.org.au
GEO:-30.361368;153.10244
X-APPLE-STRUCTURED-LOCATION;VALUE=URI;X-ADDRESS=First Avenue\, Sawtell NSW 
 2452;X-APPLE-RADIUS=72;X-TITLE=First Avenue\, Sawtell:-30.361368;153.10244
END:VEVENT
END:VCALENDAR